BEGIN:VCALENDAR
VERSION:2.0
PRODID:-//Verkehrsverein Guntersblum - ECPv6.1.2.2//NONSGML v1.0//EN
CALSCALE:GREGORIAN
METHOD:PUBLISH
X-WR-CALNAME:Verkehrsverein Guntersblum
X-ORIGINAL-URL:https://verkehrsverein-guntersblum.de
X-WR-CALDESC:Veranstaltungen für Verkehrsverein Guntersblum
REFRESH-INTERVAL;VALUE=DURATION:PT1H
X-Robots-Tag:noindex
X-PUBLISHED-TTL:PT1H
BEGIN:VTIMEZONE
TZID:Europe/Paris
BEGIN:DAYLIGHT
TZOFFSETFROM:+0100
TZOFFSETTO:+0200
TZNAME:CEST
DTSTART:20250330T010000
END:DAYLIGHT
BEGIN:STANDARD
TZOFFSETFROM:+0200
TZOFFSETTO:+0100
TZNAME:CET
DTSTART:20251026T010000
END:STANDARD
END:VTIMEZONE
BEGIN:VEVENT
DTSTART;TZID=Europe/Paris:20250719T180000
DTEND;TZID=Europe/Paris:20250719T233000
DTSTAMP:20260420T060105
CREATED:20250404T133935Z
LAST-MODIFIED:20250404T133935Z
UID:3165-1752948000-1752967800@verkehrsverein-guntersblum.de
SUMMARY:WEINSEIN Lauschiger Sommerabend
DESCRIPTION:
URL:https://verkehrsverein-guntersblum.de/event/weinsein-lauschiger-sommerabend/
LOCATION:Weingut Reineck-Baltz\, Kellerweg 57\, Guntersblum\, 67583\, Deutschland
ORGANIZER;CN="Weingut%20Reineck-Baltz":MAILTO:wein@weingut-reineck-baltz.de
END:VEVENT
END:VCALENDAR