BEGIN:VCALENDAR
VERSION:2.0
PRODID:-//Verkehrsverein Guntersblum - ECPv6.1.2.2//NONSGML v1.0//EN
CALSCALE:GREGORIAN
METHOD:PUBLISH
X-WR-CALNAME:Verkehrsverein Guntersblum
X-ORIGINAL-URL:https://verkehrsverein-guntersblum.de
X-WR-CALDESC:Veranstaltungen für Verkehrsverein Guntersblum
REFRESH-INTERVAL;VALUE=DURATION:PT1H
X-Robots-Tag:noindex
X-PUBLISHED-TTL:PT1H
BEGIN:VTIMEZONE
TZID:Europe/Paris
BEGIN:DAYLIGHT
TZOFFSETFROM:+0100
TZOFFSETTO:+0200
TZNAME:CEST
DTSTART:20260329T010000
END:DAYLIGHT
BEGIN:STANDARD
TZOFFSETFROM:+0200
TZOFFSETTO:+0100
TZNAME:CET
DTSTART:20261025T010000
END:STANDARD
END:VTIMEZONE
BEGIN:VEVENT
DTSTART;VALUE=DATE:20260425
DTEND;VALUE=DATE:20260427
DTSTAMP:20260421T100118
CREATED:20230123T160334Z
LAST-MODIFIED:20260107T191213Z
UID:2539-1777075200-1777247999@verkehrsverein-guntersblum.de
SUMMARY:Leininger Markt
DESCRIPTION:Sa ab 18 Uhr Markteinstimmung auf dem Rathausplatz \nSo ab 11 Uhr Creativ- und Künstlermarkt rund um den Rathausplatz und entlang der Alsheimerstraße \nSo ab 12:30 Uhr musikalischer Frühschoppen
URL:https://verkehrsverein-guntersblum.de/event/leininger-markt-2/
LOCATION:Rathausplatz\, Alsheimer Straße\, Guntersblum\, Rheinland-Pfalz\, 67583\, Deutschland
CATEGORIES:Markt
END:VEVENT
BEGIN:VEVENT
DTSTART;VALUE=DATE:20260429
DTEND;VALUE=DATE:20260510
DTSTAMP:20260421T100118
CREATED:20230123T155941Z
LAST-MODIFIED:20260107T191105Z
UID:2536-1777420800-1778371199@verkehrsverein-guntersblum.de
SUMMARY:Straußwirtschaft bei Strubs
DESCRIPTION:Straußwirtschaft im Winzerhof \ntäglich ab 14:00 Uhr\, Sonn- und Feiertage ab 12:00 Uhr
URL:https://verkehrsverein-guntersblum.de/event/strausswirtschaft-bei-strubs/
LOCATION:Heiko Strub\, Mittelstraße 3\, Guntersblum\, 67583\, Deutschland
CATEGORIES:VINOStrauß
END:VEVENT
BEGIN:VEVENT
DTSTART;VALUE=DATE:20260501
DTEND;VALUE=DATE:20260502
DTSTAMP:20260421T100118
CREATED:20230123T163848Z
LAST-MODIFIED:20260107T190944Z
UID:2550-1777593600-1777679999@verkehrsverein-guntersblum.de
SUMMARY:Backfisch Essen am 72h Platz in Guntersblum
DESCRIPTION:Der ASV Guntersblum 1968 e.V. lädt ein zum Backfisch-Essen am 72h Platz \nDie Veranstaltung startet um 11:00 Uhr. \nBackfisch mit Kartoffelsalat und Remoulade\, frisch geräucherte Forelle\, hausgemachte Bratwurst im Brötchen\, Kaffee & Kuchen
URL:https://verkehrsverein-guntersblum.de/event/backfisch-essen-am-72h-platz-in-guntersblum/
LOCATION:72 Stunden Halle\, Alsheimer Straße\, Guntersblum\, 67583
END:VEVENT
BEGIN:VEVENT
DTSTART;VALUE=DATE:20260509
DTEND;VALUE=DATE:20260511
DTSTAMP:20260421T100118
CREATED:20250404T133757Z
LAST-MODIFIED:20260107T190902Z
UID:3163-1778284800-1778457599@verkehrsverein-guntersblum.de
SUMMARY:WEINSEIN Weinprobiertage
DESCRIPTION:
URL:https://verkehrsverein-guntersblum.de/event/weinsein-weinprobiertage-2/
LOCATION:Weingut Reineck-Baltz\, Kellerweg 57\, Guntersblum\, 67583\, Deutschland
ORGANIZER;CN="Weingut%20Reineck-Baltz":MAILTO:wein@weingut-reineck-baltz.de
END:VEVENT
BEGIN:VEVENT
DTSTART;TZID=Europe/Paris:20260510T130000
DTEND;TZID=Europe/Paris:20260510T190000
DTSTAMP:20260421T100118
CREATED:20250404T132830Z
LAST-MODIFIED:20260107T190759Z
UID:3159-1778418000-1778439600@verkehrsverein-guntersblum.de
SUMMARY:WEINSEIN Muttertagstafel
DESCRIPTION:
URL:https://verkehrsverein-guntersblum.de/event/weinsein-muttertagstafel/
LOCATION:Weingut Reineck-Baltz\, Kellerweg 57\, Guntersblum\, 67583\, Deutschland
ORGANIZER;CN="Weingut%20Reineck-Baltz":MAILTO:wein@weingut-reineck-baltz.de
END:VEVENT
BEGIN:VEVENT
DTSTART;VALUE=DATE:20260513
DTEND;VALUE=DATE:20260521
DTSTAMP:20260421T100118
CREATED:20230123T154947Z
LAST-MODIFIED:20260107T190646Z
UID:2532-1778630400-1779321599@verkehrsverein-guntersblum.de
SUMMARY:Straußwirtschaft im Weingut Burghof Oswald
DESCRIPTION:Straußwirtschaft im Weingut Burghof Oswald \ntäglich ab 14:00 Uhr\, Feiertage und Wochenende ab 12:00 Uhr
URL:https://verkehrsverein-guntersblum.de/event/strausswirtschaft-im-burghof-oswald-2/
LOCATION:Burghof Oswald\, Alsheimer Str. 11\, Guntersblum\, 67583\, Deutschland
CATEGORIES:VINOStrauß
END:VEVENT
BEGIN:VEVENT
DTSTART;VALUE=DATE:20260514
DTEND;VALUE=DATE:20260515
DTSTAMP:20260421T100118
CREATED:20230123T154546Z
LAST-MODIFIED:20260107T190601Z
UID:2530-1778716800-1778803199@verkehrsverein-guntersblum.de
SUMMARY:Wandern auf dem WeinErlebnisPfad
DESCRIPTION:Wandern und Genießen in den Guntersblumer Weinbergen \nab 11:00 Uhr \nStartpunkt: 72 Std.-Halle\, Alsheimerstraße Nähe Tennisplatz
URL:https://verkehrsverein-guntersblum.de/event/wandern-auf-dem-weinerlebnispfad-2/
LOCATION:Wanderweg Vögelsgärten\, Guntersblum\, 67583\, Deutschland
CATEGORIES:Wanderung
END:VEVENT
BEGIN:VEVENT
DTSTART;VALUE=DATE:20260517
DTEND;VALUE=DATE:20260518
DTSTAMP:20260421T100118
CREATED:20230123T154234Z
LAST-MODIFIED:20260107T190518Z
UID:2528-1778976000-1779062399@verkehrsverein-guntersblum.de
SUMMARY:Rheinradeln
DESCRIPTION:Autofreie B9 zwischen Oppenheim und Worms \nWillkommen zur Rast
URL:https://verkehrsverein-guntersblum.de/event/rheinradeln/
END:VEVENT
BEGIN:VEVENT
DTSTART;VALUE=DATE:20260523
DTEND;VALUE=DATE:20260526
DTSTAMP:20260421T100118
CREATED:20230123T152708Z
LAST-MODIFIED:20260107T190439Z
UID:2524-1779494400-1779753599@verkehrsverein-guntersblum.de
SUMMARY:HOFFEST Katharinenhof Schauf
DESCRIPTION:HOFFEST im Winzerhof \nSamstag ab 15:00 Uhr\, Sonntag und Montag ab 11:00 Uhr
URL:https://verkehrsverein-guntersblum.de/event/hoffest-katharinenhof-schauf-2/
LOCATION:Katharinenhof Schauf\, Alsheimer Str. 95\, Guntersblum\, 67583
CATEGORIES:HOFFEST
END:VEVENT
BEGIN:VEVENT
DTSTART;VALUE=DATE:20260601
DTEND;VALUE=DATE:20260608
DTSTAMP:20260421T100118
CREATED:20230123T151808Z
LAST-MODIFIED:20260107T190346Z
UID:2519-1780272000-1780876799@verkehrsverein-guntersblum.de
SUMMARY:Straußwirtchaft im Katharinenhof Schauf
DESCRIPTION:Straußwirtschaft im Winzerhof \ntägl. ab 14:00 Uhr \n \n 
URL:https://verkehrsverein-guntersblum.de/event/strausswirtchaft-im-katharinenhof-schauf/
LOCATION:Katharinenhof Schauf\, Alsheimer Str. 95\, Guntersblum\, 67583
CATEGORIES:VINOStrauß
END:VEVENT
BEGIN:VEVENT
DTSTART;VALUE=DATE:20260608
DTEND;VALUE=DATE:20260619
DTSTAMP:20260421T100118
CREATED:20230123T151459Z
LAST-MODIFIED:20260107T190250Z
UID:2518-1780876800-1781827199@verkehrsverein-guntersblum.de
SUMMARY:Straußwirtchaft im Schlossgut Schmitt
DESCRIPTION:Straußwirtschaft im Winzerhof \ntägl. ab 14:00 Uhr
URL:https://verkehrsverein-guntersblum.de/event/strausswirtchaft-im-schlossgut-schmitt/
LOCATION:Schlossgut Schmitt\, Hauptstraße 45\, Guntersblum\, 67583\, Deutschland
CATEGORIES:VINOStrauß
END:VEVENT
BEGIN:VEVENT
DTSTART;VALUE=DATE:20260619
DTEND;VALUE=DATE:20260622
DTSTAMP:20260421T100118
CREATED:20230123T152354Z
LAST-MODIFIED:20260107T190151Z
UID:2522-1781827200-1782086399@verkehrsverein-guntersblum.de
SUMMARY:HOFFEST im Weingut Belzer
DESCRIPTION:Hoffest im Weingut Karsten Belzer \nFreitag ab 18:00 Uhr; Samstag ab 12:00 Uhr; Sonntag ab 11:00 Uhr
URL:https://verkehrsverein-guntersblum.de/event/hoffest-im-weingut-belzer/
LOCATION:Weingut Belzer\, Promenade 38\, Guntersblum\, 67583\, Deutschland
CATEGORIES:HOFFEST
END:VEVENT
BEGIN:VEVENT
DTSTART;VALUE=DATE:20260623
DTEND;VALUE=DATE:20260702
DTSTAMP:20260421T100118
CREATED:20230118T104437Z
LAST-MODIFIED:20260107T190108Z
UID:2511-1782172800-1782950399@verkehrsverein-guntersblum.de
SUMMARY:Straußwirtschaft im Deutschherrenhof Frey
DESCRIPTION:Straußwirtschaft im Winzerhof \ntägl. ab 14:00 Uhr; Wochenende ab 12:00 Uhr
URL:https://verkehrsverein-guntersblum.de/event/strausswirtschaft-im-deutschherrenhof-frey/
LOCATION:Deutschherrenhof Frey\, Hauptstraße 42\, Guntersblum\, 67583\, Deutschland
CATEGORIES:VINOStrauß
END:VEVENT
BEGIN:VEVENT
DTSTART;VALUE=DATE:20260626
DTEND;VALUE=DATE:20260628
DTSTAMP:20260421T100118
CREATED:20240105T102649Z
LAST-MODIFIED:20260107T190019Z
UID:2709-1782432000-1782604799@verkehrsverein-guntersblum.de
SUMMARY:Chill on the Hill
DESCRIPTION:Weinlounge in den Weinbergen rund um das Leckbart-Haisje – Weingut Kathrinenhof Schauf \nFreitag und Samstag ab 17:00Uhr \n \n 
URL:https://verkehrsverein-guntersblum.de/event/chill-on-the-hill/
LOCATION:Leckbart-Haisje
END:VEVENT
BEGIN:VEVENT
DTSTART;VALUE=DATE:20260703
DTEND;VALUE=DATE:20260706
DTSTAMP:20260421T100118
CREATED:20230123T150321Z
LAST-MODIFIED:20260107T185904Z
UID:2516-1783036800-1783295999@verkehrsverein-guntersblum.de
SUMMARY:HOFFEST im Weingut Burghof Oswald
DESCRIPTION:Hoffest im Weingut Burghof Oswald \nFreitag ab 14:00 Uhr; Samstag und Sonntag ab 11:00 Uhr
URL:https://verkehrsverein-guntersblum.de/event/hoffest-im-burghof-oswald-2/
LOCATION:Burghof Oswald\, Alsheimer Str. 11\, Guntersblum\, 67583\, Deutschland
CATEGORIES:HOFFEST
END:VEVENT
BEGIN:VEVENT
DTSTART;VALUE=DATE:20260708
DTEND;VALUE=DATE:20260716
DTSTAMP:20260421T100118
CREATED:20230118T104951Z
LAST-MODIFIED:20260107T185823Z
UID:2513-1783468800-1784159999@verkehrsverein-guntersblum.de
SUMMARY:Straußwirtschaft im Weingut Burghof Oswald
DESCRIPTION:Straußwirtschaft im Weingut Burghof Oswald \ntägl. ab 14:00 Uhr; Wochenende  ab 12:00 Uhr
URL:https://verkehrsverein-guntersblum.de/event/strausswirtschaft-im-burghof-oswald/
LOCATION:Burghof Oswald\, Alsheimer Str. 11\, Guntersblum\, 67583\, Deutschland
CATEGORIES:VINOStrauß
END:VEVENT
BEGIN:VEVENT
DTSTART;VALUE=DATE:20260716
DTEND;VALUE=DATE:20260725
DTSTAMP:20260421T100118
CREATED:20230118T104149Z
LAST-MODIFIED:20260107T185641Z
UID:2509-1784160000-1784937599@verkehrsverein-guntersblum.de
SUMMARY:VINOStrauß im Weingut Belzer
DESCRIPTION:Straußwirtschaft im Winzerhof \ntäglich ab 14:00 Uhr; Wochenende ab 12:00 Uhr
URL:https://verkehrsverein-guntersblum.de/event/vinostrauss-im-weingut-belzer-4/
LOCATION:Weingut Belzer\, Promenade 38\, Guntersblum\, 67583\, Deutschland
CATEGORIES:VINOStrauß
END:VEVENT
BEGIN:VEVENT
DTSTART;VALUE=DATE:20260724
DTEND;VALUE=DATE:20260727
DTSTAMP:20260421T100118
CREATED:20230118T103839Z
LAST-MODIFIED:20260107T185724Z
UID:2507-1784851200-1785110399@verkehrsverein-guntersblum.de
SUMMARY:HOFFEST im Schlossgut Schmitt
DESCRIPTION:Hoffest im Schlossgut Schmitt \nSa und So ab 11 Uhr
URL:https://verkehrsverein-guntersblum.de/event/hoffest-im-schlossgut-schmitt-2/
LOCATION:Schlossgut Schmitt\, Hauptstraße 45\, Guntersblum\, 67583\, Deutschland
CATEGORIES:HOFFEST
END:VEVENT
BEGIN:VEVENT
DTSTART;VALUE=DATE:20260821
DTEND;VALUE=DATE:20260824
DTSTAMP:20260421T100118
CREATED:20230118T101335Z
LAST-MODIFIED:20260107T155455Z
UID:2497-1787270400-1787529599@verkehrsverein-guntersblum.de
SUMMARY:Kellerweg-Fest Guntersblum
DESCRIPTION:Kellerweg-Fest Guntersblum \nKelleröffnung Freitag und Samstag ab 17:00 Uhr; Sonntag ab 11:00 Uhr
URL:https://verkehrsverein-guntersblum.de/event/kellerweg-fest-guntersblum-3/
LOCATION:Kellerweg\, Kellerweg\, Guntersblum\, 67583\, Deutschland
CATEGORIES:Weinfest
END:VEVENT
BEGIN:VEVENT
DTSTART;VALUE=DATE:20260828
DTEND;VALUE=DATE:20260830
DTSTAMP:20260421T100118
CREATED:20230118T102143Z
LAST-MODIFIED:20260107T155426Z
UID:2501-1787875200-1788047999@verkehrsverein-guntersblum.de
SUMMARY:Kellerweg-Fest Guntersblum
DESCRIPTION:Kellerweg-Fest Endspurt \nFreitag und Samstag ab 17:00 Uhr
URL:https://verkehrsverein-guntersblum.de/event/kellerweg-fest-guntersblum-4/
LOCATION:Kellerweg\, Kellerweg\, Guntersblum\, 67583\, Deutschland
CATEGORIES:Weinfest
END:VEVENT
BEGIN:VEVENT
DTSTART;VALUE=DATE:20260912
DTEND;VALUE=DATE:20260914
DTSTAMP:20260421T100118
CREATED:20230118T095441Z
LAST-MODIFIED:20260107T154934Z
UID:2491-1789171200-1789343999@verkehrsverein-guntersblum.de
SUMMARY:HOFFEST im Deutschherrenhof Frey
DESCRIPTION:Hoffest im Deutschherrenhof \nSamstag ab 15:00 Uhr; Sonntag ab 11:00 Uhr
URL:https://verkehrsverein-guntersblum.de/event/hoffest-im-deutschherrenhof-frey-2/
LOCATION:Deutschherrenhof Frey\, Hauptstraße 42\, Guntersblum\, 67583\, Deutschland
CATEGORIES:HOFFEST
END:VEVENT
BEGIN:VEVENT
DTSTART;VALUE=DATE:20260916
DTEND;VALUE=DATE:20260927
DTSTAMP:20260421T100118
CREATED:20250109T081947Z
LAST-MODIFIED:20260107T154835Z
UID:3086-1789516800-1790467199@verkehrsverein-guntersblum.de
SUMMARY:Straußwirtschaft bei Strubs
DESCRIPTION:Straußwirtschaft bei Strubs\, Wein… und mehr \ntägl. ab 14:00 Uhr\, Sonntag ab 12:00 Uhr
URL:https://verkehrsverein-guntersblum.de/event/strausswirtschaft-bei-strubs-2/
LOCATION:Heiko Strub\, Mittelstraße 3\, Guntersblum\, 67583\, Deutschland
CATEGORIES:VINOStrauß
END:VEVENT
BEGIN:VEVENT
DTSTART;VALUE=DATE:20261003
DTEND;VALUE=DATE:20261005
DTSTAMP:20260421T100118
CREATED:20250108T165807Z
LAST-MODIFIED:20260107T154742Z
UID:3084-1790985600-1791158399@verkehrsverein-guntersblum.de
SUMMARY:Federweißenfest im Weingut Burghof Oswald
DESCRIPTION:Federweißenfest im Weingut Burghof Oswald \nvon 11:00 is 18:00 Uhr
URL:https://verkehrsverein-guntersblum.de/event/federweissenfest-im-weingut-burghof-oswald/
LOCATION:Burghof Oswald\, Alsheimer Str. 11\, Guntersblum\, 67583\, Deutschland
CATEGORIES:VINOStrauß
END:VEVENT
BEGIN:VEVENT
DTSTART;VALUE=DATE:20261018
DTEND;VALUE=DATE:20261022
DTSTAMP:20260421T100118
CREATED:20250108T162935Z
LAST-MODIFIED:20260107T154652Z
UID:3046-1792281600-1792627199@verkehrsverein-guntersblum.de
SUMMARY:Straußwirtschaft bei Strubs im Kreuzgewölbe
DESCRIPTION:Straußwirtschaft bei Strubs im Kreuzgewölbe. \nSonntag bis Mittwoch\, ab 17:00 bis 22:00 Uhr
URL:https://verkehrsverein-guntersblum.de/event/strausswirtschaft-bei-strubs-im-kreuzgewoelbe-2/
LOCATION:Heiko Strub\, Mittelstraße 3\, Guntersblum\, 67583\, Deutschland
CATEGORIES:VINOStrauß
END:VEVENT
BEGIN:VEVENT
DTSTART;VALUE=DATE:20261025
DTEND;VALUE=DATE:20261029
DTSTAMP:20260421T100118
CREATED:20250108T162801Z
LAST-MODIFIED:20260107T154528Z
UID:3044-1792886400-1793231999@verkehrsverein-guntersblum.de
SUMMARY:Straußwirtschaft bei Strubs im Kreuzgewölbe
DESCRIPTION:Straußwirtschaft bei Strubs im Kreuzgewölbe. \nSonntag bis Mittwoch\, ab 17:00 bis 22:00 Uhr
URL:https://verkehrsverein-guntersblum.de/event/strausswirtschaft-bei-strubs-im-kreuzgewoelbe/
LOCATION:Heiko Strub\, Mittelstraße 3\, Guntersblum\, 67583\, Deutschland
CATEGORIES:VINOStrauß
END:VEVENT
BEGIN:VEVENT
DTSTART;VALUE=DATE:20261101
DTEND;VALUE=DATE:20261105
DTSTAMP:20260421T100118
CREATED:20220223T161427Z
LAST-MODIFIED:20260107T154433Z
UID:2249-1793491200-1793836799@verkehrsverein-guntersblum.de
SUMMARY:Straußwirtschaft bei Strubs im Kreuzgewöibe
DESCRIPTION:Straußwirtschaft bei Strubs im Kreuzgewölbe. \nSonntag bis Mittwoch\, ab 17:00 bis 22:00 Uhr
URL:https://verkehrsverein-guntersblum.de/event/vinostrauss-bei-strubs-2/
LOCATION:Heiko Strub\, Mittelstraße 3\, Guntersblum\, 67583\, Deutschland
CATEGORIES:VINOStrauß
END:VEVENT
BEGIN:VEVENT
DTSTART;VALUE=DATE:20261106
DTEND;VALUE=DATE:20261107
DTSTAMP:20260421T100118
CREATED:20220225T164737Z
LAST-MODIFIED:20260107T154327Z
UID:2315-1793923200-1794009599@verkehrsverein-guntersblum.de
SUMMARY:Dämmerschoppen zur Markteinstimmung
DESCRIPTION:Dämmerschoppen zu Einstimmung auf den Guntersblumer Markt \nab 18:00 Uhr Guntersblumer Weine und Wintercocktails genießen auf dem stimmungsvoll beleuchteten Rathausplatz \n \n 
URL:https://verkehrsverein-guntersblum.de/event/daemmerschoppen-zur-markteinstimmung/
LOCATION:Rathausplatz\, Alsheimer Straße\, Guntersblum\, Rheinland-Pfalz\, 67583\, Deutschland
CATEGORIES:Markteinstimmung
END:VEVENT
BEGIN:VEVENT
DTSTART;VALUE=DATE:20261108
DTEND;VALUE=DATE:20261109
DTSTAMP:20260421T100118
CREATED:20220225T165207Z
LAST-MODIFIED:20260122T100712Z
UID:2317-1794096000-1794182399@verkehrsverein-guntersblum.de
SUMMARY:Guntersblumer Markt
DESCRIPTION:Bauernmarkt rund um den Marktplatz \n11:00 bis 18:00 Uhr
URL:https://verkehrsverein-guntersblum.de/event/guntersblumer-markt/
LOCATION:Marktplatz\, Julianenstraße\, Guntersblum\, 67583\, Deutschland
CATEGORIES:Markt
END:VEVENT
BEGIN:VEVENT
DTSTART;VALUE=DATE:20261127
DTEND;VALUE=DATE:20261129
DTSTAMP:20260421T100118
CREATED:20230118T094227Z
LAST-MODIFIED:20260107T154013Z
UID:2486-1795737600-1795910399@verkehrsverein-guntersblum.de
SUMMARY:Guntersblumer Weihnachtsmarkt
DESCRIPTION:Weihnachtsmarkt im Leininger Schloss \nFr 18 bis 22 Uhr; Sa 16 bis 21 Uhr
URL:https://verkehrsverein-guntersblum.de/event/guntersblumer-weihnachtsmarkt/
LOCATION:Schlossgut Schmitt\, Hauptstraße 45\, Guntersblum\, 67583\, Deutschland
CATEGORIES:Markt
END:VEVENT
BEGIN:VEVENT
DTSTART;VALUE=DATE:20261128
DTEND;VALUE=DATE:20261130
DTSTAMP:20260421T100118
CREATED:20250404T134904Z
LAST-MODIFIED:20260107T153813Z
UID:3170-1795824000-1795996799@verkehrsverein-guntersblum.de
SUMMARY:WEINSEIN Weinprobiertage
DESCRIPTION:WEINSEIN Weinprobiertage im Advent \nOffene Verkostung in der Vinothek \nSa und So ab 11:00 Uhr
URL:https://verkehrsverein-guntersblum.de/event/weinsein-weinprobiertage-4/
LOCATION:Weingut Reineck-Baltz\, Kellerweg 57\, Guntersblum\, 67583\, Deutschland
ORGANIZER;CN="Weingut%20Reineck-Baltz":MAILTO:wein@weingut-reineck-baltz.de
END:VEVENT
END:VCALENDAR